BEGIN:VCALENDAR
VERSION:2.0
PRODID:icalendar-ruby
CALSCALE:GREGORIAN
METHOD:PUBLISH
BEGIN:VEVENT
DTSTAMP:20260424T174833Z
UID:53-441328@cbynorthgeorgia.org
DTSTART:20260924T230000Z
DTEND:20260925T010000Z
CLASS:PUBLIC
CREATED:20260424T130403
DESCRIPTION:
LAST-MODIFIED:20260424T130403
LOCATION:
SUMMARY:Connected Men's Group Torah Club
URL;VALUE=URI:https://www.cbynorthgeorgia.org/events/connected-mens-group-t
 orah-club/2026-09-24
ATTACH;FILENAME=CBY-Connected-Men.jpg;FMTTYPE=image/jpeg:https://dq5pwpg1q8
 ru0.cloudfront.net/2026/04/08/16/40/10/8ab229a2-7395-487e-b13e-21972832315
 b/CBY-Connected-Men.jpg
END:VEVENT
END:VCALENDAR
